BEGIN:VCALENDAR
VERSION:2.0
PRODID:-//scienceofintelligence.de - ECPv6.15.12.2//NONSGML v1.0//EN
CALSCALE:GREGORIAN
METHOD:PUBLISH
X-ORIGINAL-URL:https://www.scienceofintelligence.de
X-WR-CALDESC:Events for scienceofintelligence.de
REFRESH-INTERVAL;VALUE=DURATION:PT1H
X-Robots-Tag:noindex
X-PUBLISHED-TTL:PT1H
BEGIN:VTIMEZONE
TZID:Europe/Berlin
BEGIN:DAYLIGHT
TZOFFSETFROM:+0100
TZOFFSETTO:+0200
TZNAME:CEST
DTSTART:20240331T010000
END:DAYLIGHT
BEGIN:STANDARD
TZOFFSETFROM:+0200
TZOFFSETTO:+0100
TZNAME:CET
DTSTART:20241027T010000
END:STANDARD
BEGIN:DAYLIGHT
TZOFFSETFROM:+0100
TZOFFSETTO:+0200
TZNAME:CEST
DTSTART:20250330T010000
END:DAYLIGHT
BEGIN:STANDARD
TZOFFSETFROM:+0200
TZOFFSETTO:+0100
TZNAME:CET
DTSTART:20251026T010000
END:STANDARD
BEGIN:DAYLIGHT
TZOFFSETFROM:+0100
TZOFFSETTO:+0200
TZNAME:CEST
DTSTART:20260329T010000
END:DAYLIGHT
BEGIN:STANDARD
TZOFFSETFROM:+0200
TZOFFSETTO:+0100
TZNAME:CET
DTSTART:20261025T010000
END:STANDARD
END:VTIMEZONE
BEGIN:VEVENT
DTSTART;TZID=Europe/Berlin:20250422T140000
DTEND;TZID=Europe/Berlin:20250422T153000
DTSTAMP:20260423T103904
CREATED:20250319T103943Z
LAST-MODIFIED:20250603T124055Z
UID:23812-1745330400-1745335800@www.scienceofintelligence.de
SUMMARY:Ralf Kurvers (MPI for Human Development)\, “Individual\, Social and Ecological Drivers of Human Collective Foraging”
DESCRIPTION:Foraging complexity and competitive social challenges are considered key drivers of human cognition. Yet\, we still have a poor understanding of the decision-making mechanisms underlying foraging behavior\, especially in social contexts. In this talk\, I will combine immersive lab experiments\, field work using high-resolution tracking\, and computational and agent-based models to uncover the mechanisms guiding human foraging decisions. I hope to convince you that foraging provides a rich test bed to study a broad range of cognitive processes\, such as memory\, learning\, and evidence accumulation\, and that the current technological advancements allow us to do this even in the challenging conditions of the natural world. \n  \nThis talk is part of David Mezey‘s course “Introduction to Modeling Collective Behavior\, ” a seminar on collective behavior research\, combined with multiple interactive elements. \n  \n  \n 
URL:https://www.scienceofintelligence.de/event/ralf-kurvers-overview-of-human-collective-behavior/
LOCATION:SCIoI\, Marchstraße 23\, 10587 Berlin\, Room 2.057
CATEGORIES:Hot Topics in Intelligence Research
ATTACH;FMTTYPE=image/jpeg:https://www.scienceofintelligence.de/wp-content/uploads/2025/03/a2345417-a007-468a-8182-6b5320513e32-1.jpeg
END:VEVENT
BEGIN:VEVENT
DTSTART;TZID=Europe/Berlin:20250429T140000
DTEND;TZID=Europe/Berlin:20250429T153000
DTSTAMP:20260423T103904
CREATED:20250319T104304Z
LAST-MODIFIED:20250603T124029Z
UID:23816-1745935200-1745940600@www.scienceofintelligence.de
SUMMARY:Marina Papadopoulou (Tuscia University)\, “Across the Swarm-Verse: The Self-Organization of Animal Collectives on the Move”
DESCRIPTION:From the daily movement of primate troops to the mesmerizing murmurations of starling flocks in the sky\, the dynamics of animal groups on the move fascinate us with the mystery of their underlying social interactions. In this talk\, I will first showcase how we combine empirical data and computational models based on self-organization to understand the individual rules that underlie collective behaviour\, using bird flocks under attack by a robotic predator as a case study. Given that identifying unique and common traits across systems is necessary to understand the ecological and evolutionary processes that shape the diversity of collective behaviour we see in nature\, I will further present the Swarm-Verse\, a new framework to quantify variation in collective motion across species\, using studies on fish\, goats\, pigeons and baboons. \nThis talk is part of David Mezey‘s course “Introduction to Modeling Collective Behavior\, ” a seminar on collective behavior research\, combined with multiple interactive elements. \n  \n  \n  \nImage created with DALL-E by Maria Ott
URL:https://www.scienceofintelligence.de/event/hannah-j-williams-centre-for-the-advanced-study-of-collective-behaviour-overview-of-sensory-basis-in-collective-behavior/
LOCATION:SCIoI\, Marchstraße 23\, 10587 Berlin\, Room 2.057
CATEGORIES:Hot Topics in Intelligence Research
ATTACH;FMTTYPE=image/webp:https://www.scienceofintelligence.de/wp-content/uploads/2025/01/Fiore.webp
END:VEVENT
END:VCALENDAR