BEGIN:VCALENDAR
VERSION:2.0
PRODID:-//scienceofintelligence.de - ECPv6.15.12.2//NONSGML v1.0//EN
CALSCALE:GREGORIAN
METHOD:PUBLISH
X-WR-CALNAME:scienceofintelligence.de
X-ORIGINAL-URL:https://www.scienceofintelligence.de
X-WR-CALDESC:Events for scienceofintelligence.de
REFRESH-INTERVAL;VALUE=DURATION:PT1H
X-Robots-Tag:noindex
X-PUBLISHED-TTL:PT1H
BEGIN:VTIMEZONE
TZID:Europe/Berlin
BEGIN:DAYLIGHT
TZOFFSETFROM:+0100
TZOFFSETTO:+0200
TZNAME:CEST
DTSTART:20230326T010000
END:DAYLIGHT
BEGIN:STANDARD
TZOFFSETFROM:+0200
TZOFFSETTO:+0100
TZNAME:CET
DTSTART:20231029T010000
END:STANDARD
BEGIN:DAYLIGHT
TZOFFSETFROM:+0100
TZOFFSETTO:+0200
TZNAME:CEST
DTSTART:20240331T010000
END:DAYLIGHT
BEGIN:STANDARD
TZOFFSETFROM:+0200
TZOFFSETTO:+0100
TZNAME:CET
DTSTART:20241027T010000
END:STANDARD
BEGIN:DAYLIGHT
TZOFFSETFROM:+0100
TZOFFSETTO:+0200
TZNAME:CEST
DTSTART:20250330T010000
END:DAYLIGHT
BEGIN:STANDARD
TZOFFSETFROM:+0200
TZOFFSETTO:+0100
TZNAME:CET
DTSTART:20251026T010000
END:STANDARD
END:VTIMEZONE
BEGIN:VEVENT
DTSTART;TZID=Europe/Berlin:20241022T160000
DTEND;TZID=Europe/Berlin:20241022T173000
DTSTAMP:20260423T201409
CREATED:20241015T142554Z
LAST-MODIFIED:20250603T124739Z
UID:22437-1729612800-1729618200@www.scienceofintelligence.de
SUMMARY:Heiko Hamann (Uni Konstanz\, SCIoI)\, “Introduction to Collective Robotics: A Formal Approach”
DESCRIPTION:Heiko Hamann is a roboticist with focus on collective systems. With his group he studies distributed robotics\, machine learning for robotics\, and bio-hybrid systems. In his collaboration with SCIoI member Pawel Romanczuk he investigates collective intelligence and especially the swarm robotics aspects of “Speed-accuracy tradeoffs in distributed collective decision making.” \nThis talk will take place as part of SCIoI member Mohsen Raoufi’s seminar “Introduction to Collective Robotics: Where Complexity Meets Robotics\,” which provides an overview on the topic of collective robotics while exploring key areas like complexity science\, network science\, and engineering. \nThis talk will be broadcasted live to the SCIoI premises under the following Link.
URL:https://www.scienceofintelligence.de/event/heiko-hamann-uni-konstanz-scioi-introduction-to-collective-robotics-a-formal-approach/
LOCATION:SCIoI\, Marchstraße 23\, 10587 Berlin\, Room 2.057
CATEGORIES:Hot Topics in Intelligence Research
ATTACH;FMTTYPE=image/jpeg:https://www.scienceofintelligence.de/wp-content/uploads/2024/05/hamann-heiko.jpg
END:VEVENT
BEGIN:VEVENT
DTSTART;TZID=Europe/Berlin:20241029T160000
DTEND;TZID=Europe/Berlin:20241029T180000
DTSTAMP:20260423T201409
CREATED:20241022T090526Z
LAST-MODIFIED:20250603T124716Z
UID:22449-1730217600-1730224800@www.scienceofintelligence.de
SUMMARY:Alan Winfield (UWE Bristol)\, “Ethics in Collective Robotics”
DESCRIPTION:Alan Winfield is Professor of Electronic Engineering and Director of the Science Communication Unit at the University of the West of England\, Bristol. He conducts research in swarm robotics in the Bristol Robotics Laboratory and is especially interested in robots as working models of life\, evolution\, intelligence\, and culture. Alan is passionate about communicating science and technology. He holds an EPSRC Senior Media Fellowship with the theme Intelligent Robots in Science and Society\, and blogs about robots\, open science and related topics at his blog. Alan is a leading expert in robot ethics and cognitive robotics. \nThis talk will take place as part of SCIoI member Mohsen Raoufi’s seminar “Introduction to Collective Robotics: Where Complexity Meets Robotics\,” which provides an overview on the topic of collective robotics while exploring key areas like complexity science\, network science\, and engineering. \nThis talk will take place in person at SCIoI and will be available as a live stream.
URL:https://www.scienceofintelligence.de/event/alan-winfield-uwe-bristol-ethics-in-collective-robotics/
LOCATION:SCIoI\, Marchstraße 23\, 10587 Berlin\, Room 2.057
CATEGORIES:Hot Topics in Intelligence Research
ATTACH;FMTTYPE=image/webp:https://www.scienceofintelligence.de/wp-content/uploads/2024/10/Alan_Winfield_Talk_Poster-e1729779182919.webp
END:VEVENT
END:VCALENDAR