BEGIN:VCALENDAR
VERSION:2.0
PRODID:-//scienceofintelligence.de - ECPv6.15.12.2//NONSGML v1.0//EN
CALSCALE:GREGORIAN
METHOD:PUBLISH
X-ORIGINAL-URL:https://www.scienceofintelligence.de
X-WR-CALDESC:Events for scienceofintelligence.de
REFRESH-INTERVAL;VALUE=DURATION:PT1H
X-Robots-Tag:noindex
X-PUBLISHED-TTL:PT1H
BEGIN:VTIMEZONE
TZID:Europe/Berlin
BEGIN:DAYLIGHT
TZOFFSETFROM:+0100
TZOFFSETTO:+0200
TZNAME:CEST
DTSTART:20240331T010000
END:DAYLIGHT
BEGIN:STANDARD
TZOFFSETFROM:+0200
TZOFFSETTO:+0100
TZNAME:CET
DTSTART:20241027T010000
END:STANDARD
BEGIN:DAYLIGHT
TZOFFSETFROM:+0100
TZOFFSETTO:+0200
TZNAME:CEST
DTSTART:20250330T010000
END:DAYLIGHT
BEGIN:STANDARD
TZOFFSETFROM:+0200
TZOFFSETTO:+0100
TZNAME:CET
DTSTART:20251026T010000
END:STANDARD
BEGIN:DAYLIGHT
TZOFFSETFROM:+0100
TZOFFSETTO:+0200
TZNAME:CEST
DTSTART:20260329T010000
END:DAYLIGHT
BEGIN:STANDARD
TZOFFSETFROM:+0200
TZOFFSETTO:+0100
TZNAME:CET
DTSTART:20261025T010000
END:STANDARD
END:VTIMEZONE
BEGIN:VEVENT
DTSTART;TZID=Europe/Berlin:20250509T141500
DTEND;TZID=Europe/Berlin:20250509T154500
DTSTAMP:20260421T215131
CREATED:20250317T111247Z
LAST-MODIFIED:20250603T123955Z
UID:23742-1746800100-1746805500@www.scienceofintelligence.de
SUMMARY:J. Kevin O’Regan (CNRS Paris)\, “How To Make a Machine That Is Conscious and Really Feels”
DESCRIPTION:Despite current advances in artificial intelligence\, many people remain convinced that machines are still far from being able to really experience\, for example\, the redness of a sunset\, the pain of a pinprick\, or what it’s like to be sad. This “phenomenal” or “felt” aspect of consciousness seems outside the realm of science and impossible to implement in machines. Philosophers say phenomenal consciousness is the “hard problem”. I will show that the “hard problem” dissolves if we think about experiences using a “sensorimotor” approach.  Like the abandonment of the “ether hypothesis” and the “vital spirit” at the beginning of the 20th century\, the sensorimotor approach requires making a metaphysical shift. Instead of thinking of experiences as “happening to us”\, we should think of experiences as “things we do”.  I will illustrate the idea by taking concrete examples from the study of vision and touch. With this approach it becomes potentially possible to explain everything that can be explained from a scientific point of view about what it’s like to have sensory\, bodily\, emotional and mental experiences. Phenomenal consciousness loses its mystery. There is no obstacle to making machines that really feel. They are coming very soon. \n  \nBio \nKevin O’Regan is emeritus ex-director of the Laboratoire Psychologie de la Perception\, CNRS\, Université Paris Descartes. After working on eye movements in reading he became interested in visual stability and discovered the phenomenon of change blindness. His current work concerns the sensorimotor approach to phenomenal consciousness and its applications to child development and robotics. See http://whatfeelingislike.net and http://kevin-oregan.net/. \n  \nFor those who are not in Berlin but would like to join virtually:\nhttps://tu-berlin.zoom-x.de/j/69207754612?pwd=IKxoTdY3dQWccHpce2nA0IsNkNxPHu.1 \n  \nThis talk is also part of Aravind Battaje‘s course “Mind\, Body\, Environment: An Interactive Seminar on Embodied Intelligence\,” a seminar introducing to key theories and research highlighting this shift in perspective through invited lectures from experts in the field and interactive sessions. \n  \nPhoto kindly provided by the speaker.
URL:https://www.scienceofintelligence.de/event/kevin-oregan-cnrs-paris/
LOCATION:SCIoI\, Marchstraße 23\, 10587 Berlin\, Room 2.057
CATEGORIES:Distinguished Speaker Series
ATTACH;FMTTYPE=image/jpeg:https://www.scienceofintelligence.de/wp-content/uploads/2025/03/Screenshot-2025-04-29-at-12.18.42.jpg
END:VEVENT
END:VCALENDAR