BEGIN:VCALENDAR
VERSION:2.0
PRODID:-//scienceofintelligence.de - ECPv6.15.12.2//NONSGML v1.0//EN
CALSCALE:GREGORIAN
METHOD:PUBLISH
X-ORIGINAL-URL:https://www.scienceofintelligence.de
X-WR-CALDESC:Events for scienceofintelligence.de
REFRESH-INTERVAL;VALUE=DURATION:PT1H
X-Robots-Tag:noindex
X-PUBLISHED-TTL:PT1H
BEGIN:VTIMEZONE
TZID:Europe/Berlin
BEGIN:DAYLIGHT
TZOFFSETFROM:+0100
TZOFFSETTO:+0200
TZNAME:CEST
DTSTART:20230326T010000
END:DAYLIGHT
BEGIN:STANDARD
TZOFFSETFROM:+0200
TZOFFSETTO:+0100
TZNAME:CET
DTSTART:20231029T010000
END:STANDARD
BEGIN:DAYLIGHT
TZOFFSETFROM:+0100
TZOFFSETTO:+0200
TZNAME:CEST
DTSTART:20240331T010000
END:DAYLIGHT
BEGIN:STANDARD
TZOFFSETFROM:+0200
TZOFFSETTO:+0100
TZNAME:CET
DTSTART:20241027T010000
END:STANDARD
BEGIN:DAYLIGHT
TZOFFSETFROM:+0100
TZOFFSETTO:+0200
TZNAME:CEST
DTSTART:20250330T010000
END:DAYLIGHT
BEGIN:STANDARD
TZOFFSETFROM:+0200
TZOFFSETTO:+0100
TZNAME:CET
DTSTART:20251026T010000
END:STANDARD
END:VTIMEZONE
BEGIN:VEVENT
DTSTART;TZID=Europe/Berlin:20241205T160000
DTEND;TZID=Europe/Berlin:20241205T173000
DTSTAMP:20260422T062459
CREATED:20240911T085644Z
LAST-MODIFIED:20250603T124505Z
UID:22187-1733414400-1733419800@www.scienceofintelligence.de
SUMMARY:Onur Güntürkün (Ruhr University Bochum)\, “The Evolution of Brain and Cognition: A Wild Hypothesis”
DESCRIPTION:Onur Güntürkün is regarded as a pioneer of biologically based psychology. The aim of his work is to find out how perception\, thought and action arise in the brain. He is interested in diverse topics\, such as motor learning\, fear\, risk-taking behavior and even kissing. In his research\, Güntürkün combines psychological\, biological and neuroanatomical aspects with concepts and findings from the comparative behavioral studies and neurosciences. Using magpies as an example\, he was able to show that birds recognize themselves in the mirror and are therefore able to develop a kind of self-concept. This finding is astonishing because they lack the cerebral cortex in their brains. This is precisely what controls this ability in primates. Building on this finding\, Güntürkün also succeeded in proving that the forebrain structures of birds and primates have converged in an evolutionary process. Despite their different structures\, they converge in their neurobiological basis and their behavioral performance. \nThis talk will take place in person at SCIoI (room 2.057). \n  \nPhoto created in DALLE by Maria Ott
URL:https://www.scienceofintelligence.de/event/onur-gunturkun-ruhr-university-bochum-the-evolution-of-brain-and-cognition-a-wild-hypothesis/
LOCATION:SCIoI\, Marchstraße 23\, 10587 Berlin\, Room 2.057
CATEGORIES:Distinguished Speaker Series
ATTACH;FMTTYPE=image/png:https://www.scienceofintelligence.de/wp-content/uploads/2024/09/Brain_1.png
END:VEVENT
END:VCALENDAR