BEGIN:VCALENDAR
VERSION:2.0
PRODID:-//scienceofintelligence.de - ECPv6.15.12.2//NONSGML v1.0//EN
CALSCALE:GREGORIAN
METHOD:PUBLISH
X-WR-CALNAME:scienceofintelligence.de
X-ORIGINAL-URL:https://www.scienceofintelligence.de
X-WR-CALDESC:Events for scienceofintelligence.de
REFRESH-INTERVAL;VALUE=DURATION:PT1H
X-Robots-Tag:noindex
X-PUBLISHED-TTL:PT1H
BEGIN:VTIMEZONE
TZID:Europe/Berlin
BEGIN:DAYLIGHT
TZOFFSETFROM:+0100
TZOFFSETTO:+0200
TZNAME:CEST
DTSTART:20230326T010000
END:DAYLIGHT
BEGIN:STANDARD
TZOFFSETFROM:+0200
TZOFFSETTO:+0100
TZNAME:CET
DTSTART:20231029T010000
END:STANDARD
BEGIN:DAYLIGHT
TZOFFSETFROM:+0100
TZOFFSETTO:+0200
TZNAME:CEST
DTSTART:20240331T010000
END:DAYLIGHT
BEGIN:STANDARD
TZOFFSETFROM:+0200
TZOFFSETTO:+0100
TZNAME:CET
DTSTART:20241027T010000
END:STANDARD
BEGIN:DAYLIGHT
TZOFFSETFROM:+0100
TZOFFSETTO:+0200
TZNAME:CEST
DTSTART:20250330T010000
END:DAYLIGHT
BEGIN:STANDARD
TZOFFSETFROM:+0200
TZOFFSETTO:+0100
TZNAME:CET
DTSTART:20251026T010000
END:STANDARD
END:VTIMEZONE
BEGIN:VEVENT
DTSTART;TZID=Europe/Berlin:20240307T160000
DTEND;TZID=Europe/Berlin:20240307T170000
DTSTAMP:20260422T220832
CREATED:20240110T140607Z
LAST-MODIFIED:20250603T125121Z
UID:18026-1709827200-1709830800@www.scienceofintelligence.de
SUMMARY:POSTPONED: Onur Güntürkün (Ruhr-Universität Bochum)\, “The Evolution of Brain and Cognition: A Wild Hypothesis”
DESCRIPTION:Onur Güntürkün is regarded as a pioneer of biologically based psychology. The aim of his work is to find out how perception\, thought and action arise in the brain.\nHe is interested in diverse topics\, such as motor learning\, fear\, risk-taking behavior and even kissing. In his research\, Güntürkün combines psychological\, biological and neuroanatomical aspects with concepts and findings from the comparative behavioral and neurosciences. Using magpies as an example\, he was able to show that birds recognize themselves in the mirror and are therefore able to develop a kind of self-concept. This finding is astonishing because they lack the cerebral cortex in their brains. This is precisely what controls this ability in primates. Building on this finding\, Güntürkün also succeeded in proving that the forebrain structures of birds and primates have converged in an evolutionary process. Despite their different structures\, they converge in their neurobiological basis and their behavioral performance.\n\n\n\n\nThis talk will take place in person at SCIoI. \nPhoto by Sammie Chaffin on Unsplash. \n 
URL:https://www.scienceofintelligence.de/event/postponed-distinguished-speaker-series-onur-gunturkun-ruhr-universitat-bochum-the-evolution-of-brain-and-cognition-a-wild-hypothesis/
CATEGORIES:Distinguished Speaker Series
ATTACH;FMTTYPE=image/jpeg:https://www.scienceofintelligence.de/wp-content/uploads/2024/04/sammie-chaffin-Zdf3zn5XXtU-unsplash-scaled.jpg
END:VEVENT
BEGIN:VEVENT
DTSTART;TZID=Europe/Berlin:20240321T080000
DTEND;TZID=Europe/Berlin:20240321T170000
DTSTAMP:20260422T220832
CREATED:20231220T134311Z
LAST-MODIFIED:20240813T103536Z
UID:19037-1711008000-1711040400@www.scienceofintelligence.de
SUMMARY:Michael Beetz (Universität Bremen)\, "Empowering Robots with Digital Mental Models: Filling the Cognitive Gap for Everyday Tasks"
DESCRIPTION:In this talk I introduce Digital Mental Models (DMMs) as a novel cognitive capability of AI-powered and cognition-enabled robots. By combining digital twin technology with symbolic knowledge representation and embodying this combination into robots\, we tackle the challenge of converting vague task requests into specific robot actions\, that is robot motions that cause desired physical effects and avoid unwanted side effects. This breakthrough enables robots to perform everyday manipulation tasks with an unprecedented level of context-sensitivity\, foresight\, generality\, and transferability. DMMs narrow the cognitive divide currently existing in robotics by equipping robots with a profound understanding of the physical world and how it works.\n\n\n\n\nThis talk will take place in person at SCIoI. \n 
URL:https://www.scienceofintelligence.de/event/distinguished-speaker-series-michael-beetz-universitat-bremen-empowering-robots-with-digital-mental-models-filling-the-cognitive-gap-for-everyday-tasks/
CATEGORIES:Distinguished Speaker Series
ATTACH;FMTTYPE=image/jpeg:https://www.scienceofintelligence.de/wp-content/uploads/2023/07/230617_sience_of_intelligence_035-1024x683-1-e1770273334352.jpg
END:VEVENT
END:VCALENDAR