BEGIN:VCALENDAR
VERSION:2.0
PRODID:-//scienceofintelligence.de - ECPv6.15.12.2//NONSGML v1.0//EN
CALSCALE:GREGORIAN
METHOD:PUBLISH
X-ORIGINAL-URL:https://www.scienceofintelligence.de
X-WR-CALDESC:Events for scienceofintelligence.de
REFRESH-INTERVAL;VALUE=DURATION:PT1H
X-Robots-Tag:noindex
X-PUBLISHED-TTL:PT1H
BEGIN:VTIMEZONE
TZID:Europe/Berlin
BEGIN:DAYLIGHT
TZOFFSETFROM:+0100
TZOFFSETTO:+0200
TZNAME:CEST
DTSTART:20230326T010000
END:DAYLIGHT
BEGIN:STANDARD
TZOFFSETFROM:+0200
TZOFFSETTO:+0100
TZNAME:CET
DTSTART:20231029T010000
END:STANDARD
BEGIN:DAYLIGHT
TZOFFSETFROM:+0100
TZOFFSETTO:+0200
TZNAME:CEST
DTSTART:20240331T010000
END:DAYLIGHT
BEGIN:STANDARD
TZOFFSETFROM:+0200
TZOFFSETTO:+0100
TZNAME:CET
DTSTART:20241027T010000
END:STANDARD
BEGIN:DAYLIGHT
TZOFFSETFROM:+0100
TZOFFSETTO:+0200
TZNAME:CEST
DTSTART:20250330T010000
END:DAYLIGHT
BEGIN:STANDARD
TZOFFSETFROM:+0200
TZOFFSETTO:+0100
TZNAME:CET
DTSTART:20251026T010000
END:STANDARD
END:VTIMEZONE
BEGIN:VEVENT
DTSTART;TZID=Europe/Berlin:20240222T160000
DTEND;TZID=Europe/Berlin:20240222T173000
DTSTAMP:20260422T235700
CREATED:20240110T140221Z
LAST-MODIFIED:20250603T125146Z
UID:18020-1708617600-1708623000@www.scienceofintelligence.de
SUMMARY:Antonio Bicchi (University of Pisa)\, “What Is It Like To Be a Bot?”
DESCRIPTION:Abstract \nThe impressive evolution that artificial intelligence\, virtual reality\, and robotics have recently undergone reached a point where it is now possible to fuse these technologies and create another body for the self. This possibility poses new questions at the core of embodied intelligence. In this talk I will examine a few of the technical\, scientific\, and philosophical issues related to using robots as avatars and “being a bot.” \n\n\n\n\n\nThis talk will take place in person at SCIoI. \n  \nPhoto by Owen Beard on Unsplash. \n 
URL:https://www.scienceofintelligence.de/event/distinguished-speaker-series-antonio-bicchi-university-of-pisa-what-is-it-like-to-be-a-bot/
CATEGORIES:Distinguished Speaker Series
ATTACH;FMTTYPE=image/jpeg:https://www.scienceofintelligence.de/wp-content/uploads/2024/01/owen-beard-K21Dn4OVxNw-unsplash.jpg
END:VEVENT
END:VCALENDAR