BEGIN:VCALENDAR
VERSION:2.0
PRODID:-//scienceofintelligence.de - ECPv6.15.12.2//NONSGML v1.0//EN
CALSCALE:GREGORIAN
METHOD:PUBLISH
X-WR-CALNAME:scienceofintelligence.de
X-ORIGINAL-URL:https://www.scienceofintelligence.de
X-WR-CALDESC:Events for scienceofintelligence.de
REFRESH-INTERVAL;VALUE=DURATION:PT1H
X-Robots-Tag:noindex
X-PUBLISHED-TTL:PT1H
BEGIN:VTIMEZONE
TZID:Europe/Berlin
BEGIN:DAYLIGHT
TZOFFSETFROM:+0100
TZOFFSETTO:+0200
TZNAME:CEST
DTSTART:20230326T010000
END:DAYLIGHT
BEGIN:STANDARD
TZOFFSETFROM:+0200
TZOFFSETTO:+0100
TZNAME:CET
DTSTART:20231029T010000
END:STANDARD
BEGIN:DAYLIGHT
TZOFFSETFROM:+0100
TZOFFSETTO:+0200
TZNAME:CEST
DTSTART:20240331T010000
END:DAYLIGHT
BEGIN:STANDARD
TZOFFSETFROM:+0200
TZOFFSETTO:+0100
TZNAME:CET
DTSTART:20241027T010000
END:STANDARD
BEGIN:DAYLIGHT
TZOFFSETFROM:+0100
TZOFFSETTO:+0200
TZNAME:CEST
DTSTART:20250330T010000
END:DAYLIGHT
BEGIN:STANDARD
TZOFFSETFROM:+0200
TZOFFSETTO:+0100
TZNAME:CET
DTSTART:20251026T010000
END:STANDARD
END:VTIMEZONE
BEGIN:VEVENT
DTSTART;TZID=Europe/Berlin:20240118T160000
DTEND;TZID=Europe/Berlin:20240118T173000
DTSTAMP:20260423T014233
CREATED:20230118T132237Z
LAST-MODIFIED:20240514T131038Z
UID:18007-1705593600-1705599000@www.scienceofintelligence.de
SUMMARY:POSTPONED: Richard McElreath\, "The Cultural and Ecological Nature of Intelligence"
DESCRIPTION:Abstract:\nHow do we reconcile the extraordinary success of the human species with the apparent stupidity of people and organizations? How can we understand the transformation of humans from foraging apes to urban clerks\, without any appreciable change in physiology? No one has definitive answers to these questions\, but we begin to answer them by appreciating the ways in which populations think over cultural and ecological time scales.\n\n\n\n\nThis talk will take place in person at SCIoI. \n  \n Photo by ALAN DE LA CRUZ on Unsplash. \n  \n***Want to attend one of our events? Sign up here.\nTo get regular updates\, subscribe to our mailing list from this page.
URL:https://www.scienceofintelligence.de/event/postponed-distinguished-speaker-series-richard-mcelreath-the-cultural-and-ecological-nature-of-intelligence/
CATEGORIES:Distinguished Speaker Series
ATTACH;FMTTYPE=image/jpeg:https://www.scienceofintelligence.de/wp-content/uploads/2023/01/alan-de-la-cruz-CmO_GydmKaY-unsp.jpg
END:VEVENT
END:VCALENDAR