BEGIN:VCALENDAR
VERSION:2.0
PRODID:-//scienceofintelligence.de - ECPv6.15.12.2//NONSGML v1.0//EN
CALSCALE:GREGORIAN
METHOD:PUBLISH
X-ORIGINAL-URL:https://www.scienceofintelligence.de
X-WR-CALDESC:Events for scienceofintelligence.de
REFRESH-INTERVAL;VALUE=DURATION:PT1H
X-Robots-Tag:noindex
X-PUBLISHED-TTL:PT1H
BEGIN:VTIMEZONE
TZID:Europe/Berlin
BEGIN:DAYLIGHT
TZOFFSETFROM:+0100
TZOFFSETTO:+0200
TZNAME:CEST
DTSTART:20210328T010000
END:DAYLIGHT
BEGIN:STANDARD
TZOFFSETFROM:+0200
TZOFFSETTO:+0100
TZNAME:CET
DTSTART:20211031T010000
END:STANDARD
BEGIN:DAYLIGHT
TZOFFSETFROM:+0100
TZOFFSETTO:+0200
TZNAME:CEST
DTSTART:20220327T010000
END:DAYLIGHT
BEGIN:STANDARD
TZOFFSETFROM:+0200
TZOFFSETTO:+0100
TZNAME:CET
DTSTART:20221030T010000
END:STANDARD
BEGIN:DAYLIGHT
TZOFFSETFROM:+0100
TZOFFSETTO:+0200
TZNAME:CEST
DTSTART:20230326T010000
END:DAYLIGHT
BEGIN:STANDARD
TZOFFSETFROM:+0200
TZOFFSETTO:+0100
TZNAME:CET
DTSTART:20231029T010000
END:STANDARD
END:VTIMEZONE
BEGIN:VEVENT
DTSTART;TZID=Europe/Berlin:20220714T160000
DTEND;TZID=Europe/Berlin:20220714T173000
DTSTAMP:20260424T053502
CREATED:20220523T085120Z
LAST-MODIFIED:20250603T130312Z
UID:12100-1657814400-1657819800@www.scienceofintelligence.de
SUMMARY:Daniel M. Wolpert (Columbia University)\, “Contextual Inference Underlies the Learning of Sensorimotor Repertoires”
DESCRIPTION:Abstract:\nHumans spend a lifetime learning\, storing and refining a repertoire of motor memories. However\, it is unknown what principle underlies the way our continuous stream of sensorimotor experience is segmented into separate memories and how we adapt and use this growing repertoire. Here we develop a principled theory of motor learning based on the key insight that memory creation\, updating\, and expression are all controlled by a single computation – contextual inference. Unlike dominant theories of single-context learning\, our repertoire-learning model accounts for key features of motor learning that had no unified explanation and predicts novel phenomena\, which we confirm experimentally. These results suggest that contextual inference is the key principle underlying how a diverse set of experiences is reflected in motor behavior. \nThis event will take place on Zoom. \n  \nPhoto by afiq fatah on Unsplash \n 
URL:https://www.scienceofintelligence.de/event/distinguish-speaker-series-with-daniel-m-wolpert/
CATEGORIES:Distinguished Speaker Series
ATTACH;FMTTYPE=image/jpeg:https://www.scienceofintelligence.de/wp-content/uploads/2022/05/afiq-fatah-1cVmsgAkm9A-unsplash.jpg
END:VEVENT
END:VCALENDAR