BEGIN:VCALENDAR
VERSION:2.0
PRODID:-//scienceofintelligence.de - ECPv6.15.12.2//NONSGML v1.0//EN
CALSCALE:GREGORIAN
METHOD:PUBLISH
X-WR-CALNAME:scienceofintelligence.de
X-ORIGINAL-URL:https://www.scienceofintelligence.de
X-WR-CALDESC:Events for scienceofintelligence.de
REFRESH-INTERVAL;VALUE=DURATION:PT1H
X-Robots-Tag:noindex
X-PUBLISHED-TTL:PT1H
BEGIN:VTIMEZONE
TZID:Europe/Berlin
BEGIN:DAYLIGHT
TZOFFSETFROM:+0100
TZOFFSETTO:+0200
TZNAME:CEST
DTSTART:20200329T010000
END:DAYLIGHT
BEGIN:STANDARD
TZOFFSETFROM:+0200
TZOFFSETTO:+0100
TZNAME:CET
DTSTART:20201025T010000
END:STANDARD
BEGIN:DAYLIGHT
TZOFFSETFROM:+0100
TZOFFSETTO:+0200
TZNAME:CEST
DTSTART:20210328T010000
END:DAYLIGHT
BEGIN:STANDARD
TZOFFSETFROM:+0200
TZOFFSETTO:+0100
TZNAME:CET
DTSTART:20211031T010000
END:STANDARD
BEGIN:DAYLIGHT
TZOFFSETFROM:+0100
TZOFFSETTO:+0200
TZNAME:CEST
DTSTART:20220327T010000
END:DAYLIGHT
BEGIN:STANDARD
TZOFFSETFROM:+0200
TZOFFSETTO:+0100
TZNAME:CET
DTSTART:20221030T010000
END:STANDARD
END:VTIMEZONE
BEGIN:VEVENT
DTSTART;TZID=Europe/Berlin:20211028T160000
DTEND;TZID=Europe/Berlin:20211028T173000
DTSTAMP:20260424T195802
CREATED:20210908T113520Z
LAST-MODIFIED:20240813T093828Z
UID:10612-1635436800-1635442200@www.scienceofintelligence.de
SUMMARY:Cameron Buckner (Univ. of Houston)\, Imagination and the Prospects for Empiricist Artificial Intelligence
DESCRIPTION:Abstract: In current debates over deep-neural-network-based AI\, deep learning researchers have adopted the mantle of philosophical empiricism and associationism\, and its critics have taken up the side of philosophical rationalism and nativism.  These rationalist critics\, however\, often interpret associationism and empiricism in a way which is too caricatured to fit the views of any significant thinker in the empiricist tradition.  In particular\, most empiricists were faculty theorists; while they generally eschewed innate knowledge\, they appealed to a variety of domain-general innate faculties like memory\, imagination\, and attention to explain how the mind abstracts knowledge from experience.  This dynamic is vividly illustrated in a centuries-displaced debate between David Hume and Jerry Fodor over the role of imagination in cognitive architecture.  Fodor famously claimed that the ability to synthesize novel ideas and create new compositional representations is required for cognition.  Fodor applauds Hume for agreeing on these points\, but criticizes Hume’s use of the imagination to discharge these burdens.  Fodor claims that such an appeal for an associationist is “cheating”\, and notes that Hume never explains how the empiricist imagination actually works\, merely assigning it a variety of essential functions to perform “as if by magic”. \nMore recently\, deep learning researchers have claimed to create generative deep neural network models that perform one or more of the roles ascribed to the imagination by cognitive psychology and neuroscience.  In this talk\, I canvass these models and their achievements (especially Generative Adversarial Networks\, Variational Autoencoders\, and Generative Transformers) to arbitrate this dispute between Humean empiricism and Fodorian rationalism.  Of particular interest will be various methods of latent space vector interpolation which appear to allow these models to create novel compositional representations\, whether these methods still count as associationist in nature\, and whether the purportedly crucial distinction between interpolation and extrapolation remains viable in the higher-order dimensional spaces over which these models operate. \nClick here for Cameron Buckner’s Bio. \nThe Zoom Link will be sent the day before the lecture.
URL:https://www.scienceofintelligence.de/event/distinguished-speaker-series-cameron-buckner-university-of-houston/
LOCATION:On Zoom
CATEGORIES:Distinguished Speaker Series
ATTACH;FMTTYPE=image/jpeg:https://www.scienceofintelligence.de/wp-content/uploads/2021/09/head-1.jpg
END:VEVENT
END:VCALENDAR