BEGIN:VCALENDAR
VERSION:2.0
PRODID:-//scienceofintelligence.de - ECPv6.15.12.2//NONSGML v1.0//EN
CALSCALE:GREGORIAN
METHOD:PUBLISH
X-WR-CALNAME:scienceofintelligence.de
X-ORIGINAL-URL:https://www.scienceofintelligence.de
X-WR-CALDESC:Events for scienceofintelligence.de
REFRESH-INTERVAL;VALUE=DURATION:PT1H
X-Robots-Tag:noindex
X-PUBLISHED-TTL:PT1H
BEGIN:VTIMEZONE
TZID:Europe/Berlin
BEGIN:DAYLIGHT
TZOFFSETFROM:+0100
TZOFFSETTO:+0200
TZNAME:CEST
DTSTART:20200329T010000
END:DAYLIGHT
BEGIN:STANDARD
TZOFFSETFROM:+0200
TZOFFSETTO:+0100
TZNAME:CET
DTSTART:20201025T010000
END:STANDARD
BEGIN:DAYLIGHT
TZOFFSETFROM:+0100
TZOFFSETTO:+0200
TZNAME:CEST
DTSTART:20210328T010000
END:DAYLIGHT
BEGIN:STANDARD
TZOFFSETFROM:+0200
TZOFFSETTO:+0100
TZNAME:CET
DTSTART:20211031T010000
END:STANDARD
BEGIN:DAYLIGHT
TZOFFSETFROM:+0100
TZOFFSETTO:+0200
TZNAME:CEST
DTSTART:20220327T010000
END:DAYLIGHT
BEGIN:STANDARD
TZOFFSETFROM:+0200
TZOFFSETTO:+0100
TZNAME:CET
DTSTART:20221030T010000
END:STANDARD
END:VTIMEZONE
BEGIN:VEVENT
DTSTART;TZID=Europe/Berlin:20210624T160000
DTEND;TZID=Europe/Berlin:20210624T173000
DTSTAMP:20260425T023547
CREATED:20210607T113648Z
LAST-MODIFIED:20250604T095548Z
UID:10284-1624550400-1624555800@www.scienceofintelligence.de
SUMMARY:Kou Murayama (Universität Tübingen)\, “A Reward-Learning Framework of Knowledge Acquisition: How We Can Integrate the Concepts of Curiosity\, Interest\, and Intrinsic-Extrinsic Rewards.”
DESCRIPTION:Recent years have seen a considerable surge of research on interest-based engagement\, examining how and why people are engaged in activities without relying on extrinsic rewards. However\, the field of inquiry has been somewhat segregated into three different research traditions which have been developed relatively independently — research on curiosity\, interest\, and trait curiosity/interest. The current talk sets out an integrative perspective; the reward-learning framework of knowledge acquisition. This conceptual framework takes on the basic premise of existing reward-learning models of information seeking: that knowledge acquisition serves as an inherent reward\, which reinforces people’s information-seeking behavior through a reward-learning process. However\, the framework reveals how the knowledge-acquisition process is sustained and boosted over a long period of time in real-life settings\, allowing us to integrate the different research traditions within reward-learning models. The framework also characterizes the knowledge-acquisition process with four distinct features that are not present in the reward-learning process with extrinsic rewards — (1) cumulativeness\, (2) selectivity\, (3) vulnerability\, and (4) under-appreciation. The talk describes some evidence from our lab supporting these claims. \nHosted by Rebecca Lazarides \nSpeaker website: https://koumurayama.com/people.php \nThe Zoom Link will be sent the day before the lecture. (Contact communication@scioi.de for specific questions)
URL:https://www.scienceofintelligence.de/event/distingushed-speaker-series-kou-murayama-universitat-tubingen-hosted-by-rebecca-lazarides/
LOCATION:On Zoom
CATEGORIES:Distinguished Speaker Series
ATTACH;FMTTYPE=image/png:https://www.scienceofintelligence.de/wp-content/uploads/2021/06/Screenshot-2021-06-07-133959-1.png
END:VEVENT
END:VCALENDAR