BEGIN:VCALENDAR
VERSION:2.0
PRODID:-//scienceofintelligence.de - ECPv6.15.12.2//NONSGML v1.0//EN
CALSCALE:GREGORIAN
METHOD:PUBLISH
X-ORIGINAL-URL:https://www.scienceofintelligence.de
X-WR-CALDESC:Events for scienceofintelligence.de
REFRESH-INTERVAL;VALUE=DURATION:PT1H
X-Robots-Tag:noindex
X-PUBLISHED-TTL:PT1H
BEGIN:VTIMEZONE
TZID:Europe/Berlin
BEGIN:DAYLIGHT
TZOFFSETFROM:+0100
TZOFFSETTO:+0200
TZNAME:CEST
DTSTART:20200329T010000
END:DAYLIGHT
BEGIN:STANDARD
TZOFFSETFROM:+0200
TZOFFSETTO:+0100
TZNAME:CET
DTSTART:20201025T010000
END:STANDARD
BEGIN:DAYLIGHT
TZOFFSETFROM:+0100
TZOFFSETTO:+0200
TZNAME:CEST
DTSTART:20210328T010000
END:DAYLIGHT
BEGIN:STANDARD
TZOFFSETFROM:+0200
TZOFFSETTO:+0100
TZNAME:CET
DTSTART:20211031T010000
END:STANDARD
BEGIN:DAYLIGHT
TZOFFSETFROM:+0100
TZOFFSETTO:+0200
TZNAME:CEST
DTSTART:20220327T010000
END:DAYLIGHT
BEGIN:STANDARD
TZOFFSETFROM:+0200
TZOFFSETTO:+0100
TZNAME:CET
DTSTART:20221030T010000
END:STANDARD
END:VTIMEZONE
BEGIN:VEVENT
DTSTART;TZID=Europe/Berlin:20210429T160000
DTEND;TZID=Europe/Berlin:20210429T180000
DTSTAMP:20260425T055430
CREATED:20210126T081803Z
LAST-MODIFIED:20240813T092630Z
UID:9574-1619712000-1619719200@www.scienceofintelligence.de
SUMMARY:Peter Dayan\, (Max Planck Institute for Biological Cybernetics)\, "Peril\, Prudence and Planning as Risk\, Avoidance and Worry"
DESCRIPTION:Speaker: Peter Dayan\, Max Planck Institute for Biological Cybernetics\, https://www.mpg.de/12309357/biologische-kybernetik-dayan\nHosted by Henning Sprekeler; moderated by Robert Tjarko Lange \nPeril\, Prudence and Planning as Risk\, Avoidance and Worry\nRisk occupies a central role in both the theory and practice of decision-making. Although it is deeply implicated in many conditions involving dysfunctional behavior and thought\, modern theoretical approaches to understanding and mitigating risk in either one-shot or sequential settings\, which are derived largely from finance and economics\, have yet to permeate fully the fields of neural reinforcement learning and computational psychiatry. I will discuss the use of dynamic and static versions of one prominent approach\, namely conditional value-at-risk\, to examine both the nature of risk avoidant choices\, encompassing such things as justified gambler’s fallacies\, and the optimal planning that can lead to consideration of such choices\, with implications for offline\, ruminative\, thinking. This is joint work with Chris Gagne.\n \nThe Zoom Link will be sent the day before the lecture. (Contact communication@scioi.de for specific questions)
URL:https://www.scienceofintelligence.de/event/distinguished-speaker-series-peter-dayan/
LOCATION:On Zoom
CATEGORIES:Distinguished Speaker Series
ATTACH;FMTTYPE=image/png:https://www.scienceofintelligence.de/wp-content/uploads/2021/01/Screen-Shot-2021-01-26-at-10.28.43.png
END:VEVENT
END:VCALENDAR