BEGIN:VCALENDAR
VERSION:2.0
PRODID:-//scienceofintelligence.de - ECPv6.15.12.2//NONSGML v1.0//EN
CALSCALE:GREGORIAN
METHOD:PUBLISH
X-WR-CALNAME:scienceofintelligence.de
X-ORIGINAL-URL:https://www.scienceofintelligence.de
X-WR-CALDESC:Events for scienceofintelligence.de
REFRESH-INTERVAL;VALUE=DURATION:PT1H
X-Robots-Tag:noindex
X-PUBLISHED-TTL:PT1H
BEGIN:VTIMEZONE
TZID:Europe/Berlin
BEGIN:DAYLIGHT
TZOFFSETFROM:+0100
TZOFFSETTO:+0200
TZNAME:CEST
DTSTART:20190331T010000
END:DAYLIGHT
BEGIN:STANDARD
TZOFFSETFROM:+0200
TZOFFSETTO:+0100
TZNAME:CET
DTSTART:20191027T010000
END:STANDARD
BEGIN:DAYLIGHT
TZOFFSETFROM:+0100
TZOFFSETTO:+0200
TZNAME:CEST
DTSTART:20200329T010000
END:DAYLIGHT
BEGIN:STANDARD
TZOFFSETFROM:+0200
TZOFFSETTO:+0100
TZNAME:CET
DTSTART:20201025T010000
END:STANDARD
BEGIN:DAYLIGHT
TZOFFSETFROM:+0100
TZOFFSETTO:+0200
TZNAME:CEST
DTSTART:20210328T010000
END:DAYLIGHT
BEGIN:STANDARD
TZOFFSETFROM:+0200
TZOFFSETTO:+0100
TZNAME:CET
DTSTART:20211031T010000
END:STANDARD
END:VTIMEZONE
BEGIN:VEVENT
DTSTART;TZID=Europe/Berlin:20200625T160000
DTEND;TZID=Europe/Berlin:20200625T180000
DTSTAMP:20260425T223127
CREATED:20200309T121608Z
LAST-MODIFIED:20250604T100103Z
UID:7262-1593100800-1593108000@www.scienceofintelligence.de
SUMMARY:Jacqueline Gottlieb (Hosted by Martin Rolfs): Curiosity and Information Demand: How We Can Study Them and Why We Should Care
DESCRIPTION:Curiosity and information demand: how we can study them and why we should care \nA rapidly growing literature has recently emphasized the importance of our sense-making instincts\, including complex investigative behaviors such as curiosity\, for behavior and brain function. While much of this literature has focused on simple forms of decision making\, we explored its significance for attention allocation. To make adaptive decisions in realistic multi-dimensional environments\, animals must infer the relevant features and afford them priority for the control of learning and actions. Prioritizing sources of information is the role of executive control and attention\, but its neural mechanisms are poorly understood. I will review studies of information demand suggesting that the fronto-parietal network encodes both optimal and non-optimal mechanisms for attentional prioritization. Converging evidence shows that parietal neurons encode prior uncertainty and likelihood\, two quantities required for Bayesian prioritization that maximizes the reduction in uncertainty. However\, the neurons also encode priority based on hedonic stimulus-reward associations\, in ways that seem non-optimal and interfere with the reduction of uncertainty. Continued studies of information demand will shed light on the vital question of how animals make complex decisions in realistic settings – specifically\, how they endogenously assign salience or priority to competing sources of information that subsequently control learning and actions. \nJacqueline Gottlieb\, Department of Neuroscience\, The Kavli Institute for Brain Science\, The Zuckerman Institute for Mind Brain and Behavior\, Columbia University\, New York\, NY\, 10032\, www.gottlieblab.com \nThe Zoom Link will be sent the day before the lecture. (Contact communication@scioi.de for specific questions) \n  \n(Photo by JR Korpa on Unsplash)
URL:https://www.scienceofintelligence.de/event/distinguished-speaker-series-jacqueline-gottlieb/
LOCATION:On ZOOM (Contact us for Link)
CATEGORIES:Distinguished Speaker Series
ATTACH;FMTTYPE=image/jpeg:https://www.scienceofintelligence.de/wp-content/uploads/2020/03/jr-korpa-3TSIDbjuzc4-unsplash-scaled-1.jpg
END:VEVENT
END:VCALENDAR